BEGIN:VCALENDAR
PRODID:-//nuDatenautomaten//framework iCal4j //DE
VERSION:2.0
CALSCALE:GREGORIAN
BEGIN:VTIMEZONE
TZID:Europe/Berlin
LAST-MODIFIED:20260306T231828Z
TZURL:https://www.tzurl.org/zoneinfo/Europe/Berlin
X-LIC-LOCATION:Europe/Berlin
X-PROLEPTIC-TZNAME:LMT
BEGIN:STANDARD
TZNAME:CET
TZOFFSETFROM:+005328
TZOFFSETTO:+0100
DTSTART:18930401T000000
END:STANDARD
BEGIN:DAYLIGHT
TZNAME:CEST
TZOFFSETFROM:+0100
TZOFFSETTO:+0200
DTSTART:19160430T230000
RDATE:19400401T020000
RDATE:19430329T020000
RDATE:19460414T020000
RDATE:19470406T030000
RDATE:19480418T020000
RDATE:19490410T020000
RDATE:19800406T020000
END:DAYLIGHT
BEGIN:STANDARD
TZNAME:CET
TZOFFSETFROM:+0200
TZOFFSETTO:+0100
DTSTART:19161001T010000
RDATE:19421102T030000
RDATE:19431004T030000
RDATE:19441002T030000
RDATE:19451118T030000
RDATE:19461007T030000
END:STANDARD
BEGIN:DAYLIGHT
TZNAME:CEST
TZOFFSETFROM:+0100
TZOFFSETTO:+0200
DTSTART:19170416T020000
RRULE:FREQ=YEARLY;UNTIL=19180415T010000Z;BYMONTH=4;BYDAY=3MO
END:DAYLIGHT
BEGIN:STANDARD
TZNAME:CET
TZOFFSETFROM:+0200
TZOFFSETTO:+0100
DTSTART:19170917T030000
RRULE:FREQ=YEARLY;UNTIL=19180916T010000Z;BYMONTH=9;BYDAY=3MO
END:STANDARD
BEGIN:DAYLIGHT
TZNAME:CEST
TZOFFSETFROM:+0100
TZOFFSETTO:+0200
DTSTART:19440403T020000
RRULE:FREQ=YEARLY;UNTIL=19450402T010000Z;BYMONTH=4;BYDAY=1MO
END:DAYLIGHT
BEGIN:DAYLIGHT
TZNAME:CEMT
TZOFFSETFROM:+0200
TZOFFSETTO:+0300
DTSTART:19450524T020000
RDATE:19470511T030000
END:DAYLIGHT
BEGIN:DAYLIGHT
TZNAME:CEST
TZOFFSETFROM:+0300
TZOFFSETTO:+0200
DTSTART:19450924T030000
RDATE:19470629T030000
END:DAYLIGHT
BEGIN:STANDARD
TZNAME:CET
TZOFFSETFROM:+0100
TZOFFSETTO:+0100
DTSTART:19460101T000000
RDATE:19800101T000000
END:STANDARD
BEGIN:STANDARD
TZNAME:CET
TZOFFSETFROM:+0200
TZOFFSETTO:+0100
DTSTART:19471005T030000
RRULE:FREQ=YEARLY;UNTIL=19491002T010000Z;BYMONTH=10;BYDAY=1SU
END:STANDARD
BEGIN:STANDARD
TZNAME:CET
TZOFFSETFROM:+0200
TZOFFSETTO:+0100
DTSTART:19800928T030000
RRULE:FREQ=YEARLY;UNTIL=19950924T010000Z;BYMONTH=9;BYDAY=-1SU
END:STANDARD
BEGIN:DAYLIGHT
TZNAME:CEST
TZOFFSETFROM:+0100
TZOFFSETTO:+0200
DTSTART:19810329T020000
RRULE:FREQ=YEARLY;BYMONTH=3;BYDAY=-1SU
END:DAYLIGHT
BEGIN:STANDARD
TZNAME:CET
TZOFFSETFROM:+0200
TZOFFSETTO:+0100
DTSTART:19961027T030000
RRULE:FREQ=YEARLY;BYMONTH=10;BYDAY=-1SU
END:STANDARD
END:VTIMEZONE
BEGIN:VEVENT
DTSTAMP:20260420T013606Z
DTSTART;TZID=Europe/Berlin:20181019T201500
DTEND;TZID=Europe/Berlin:20181019T231500
SUMMARY:Kreisliga Brügger SV II vs Eckernförder MTV II (15)
UID:8f2462ac-ed2e-6d7a-e053-1fc7a80a46f4
STATUS:CONFIRMED
LAST-MODIFIED:20190802T145157Z
DESCRIPTION:Kreisliga - Rendsburg/ Eckernförde\nBegegnungs-Nr: 15\nHeim: Brügger SV II\nGast: Eckernförder MTV II\n
LOCATION:
CATEGORIES:Saison 2018/19
END:VEVENT
BEGIN:VEVENT
DTSTAMP:20260420T013606Z
DTSTART;TZID=Europe/Berlin:20180831T201500
DTEND;TZID=Europe/Berlin:20180831T231500
SUMMARY:Kreisliga Brügger SV II vs Hohner SV Eintracht  (3)
UID:8f2462ac-ee63-6d7a-e053-1fc7a80a46f4
STATUS:CONFIRMED
LAST-MODIFIED:20190802T145157Z
DESCRIPTION:Kreisliga - Rendsburg/ Eckernförde\nBegegnungs-Nr: 3\nHeim: Brügger SV II\nGast: Hohner SV Eintracht \n
LOCATION:
CATEGORIES:Saison 2018/19
END:VEVENT
BEGIN:VEVENT
DTSTAMP:20260420T013606Z
DTSTART;TZID=Europe/Berlin:20181029T201500
DTEND;TZID=Europe/Berlin:20181029T231500
SUMMARY:Kreisliga Brügger SV II vs Westerrönfelder SV  (39)
UID:8f2462ac-ef2a-6d7a-e053-1fc7a80a46f4
STATUS:CONFIRMED
LAST-MODIFIED:20190802T145157Z
DESCRIPTION:Kreisliga - Rendsburg/ Eckernförde\nBegegnungs-Nr: 39\nHeim: Brügger SV II\nGast: Westerrönfelder SV \n
LOCATION:
CATEGORIES:Saison 2018/19
END:VEVENT
BEGIN:VEVENT
DTSTAMP:20260420T013606Z
DTSTART;TZID=Europe/Berlin:20181214T201500
DTEND;TZID=Europe/Berlin:20181214T231500
SUMMARY:Kreisliga Brügger SV II vs Eckernförder MTV III (45)
UID:8f2462ac-efaf-6d7a-e053-1fc7a80a46f4
STATUS:CONFIRMED
LAST-MODIFIED:20190802T145157Z
DESCRIPTION:Kreisliga - Rendsburg/ Eckernförde\nBegegnungs-Nr: 45\nHeim: Brügger SV II\nGast: Eckernförder MTV III\n
LOCATION:
CATEGORIES:Saison 2018/19
END:VEVENT
BEGIN:VEVENT
DTSTAMP:20260420T013606Z
DTSTART;TZID=Europe/Berlin:20181123T201500
DTEND;TZID=Europe/Berlin:20181123T231500
SUMMARY:Kreisliga Brügger SV II vs Osdorfer SV  (57)
UID:8f2462ac-f0b3-6d7a-e053-1fc7a80a46f4
STATUS:CONFIRMED
LAST-MODIFIED:20190802T145158Z
DESCRIPTION:Kreisliga - Rendsburg/ Eckernförde\nBegegnungs-Nr: 57\nHeim: Brügger SV II\nGast: Osdorfer SV \n
LOCATION:
CATEGORIES:Saison 2018/19
END:VEVENT
BEGIN:VEVENT
DTSTAMP:20260420T013606Z
DTSTART;TZID=Europe/Berlin:20190201T201500
DTEND;TZID=Europe/Berlin:20190201T231500
SUMMARY:Kreisliga Brügger SV II vs TSV Owschlag  (19)
UID:8f2462ac-f299-6d7a-e053-1fc7a80a46f4
STATUS:CONFIRMED
LAST-MODIFIED:20190802T145158Z
DESCRIPTION:Kreisliga - Rendsburg/ Eckernförde\nBegegnungs-Nr: 19\nHeim: Brügger SV II\nGast: TSV Owschlag \n
LOCATION:
CATEGORIES:Saison 2018/19
END:VEVENT
BEGIN:VEVENT
DTSTAMP:20260420T013606Z
DTSTART;TZID=Europe/Berlin:20190215T201500
DTEND;TZID=Europe/Berlin:20190215T231500
SUMMARY:Kreisliga Brügger SV II vs SV Fockbek IV (27)
UID:8f2462ac-f358-6d7a-e053-1fc7a80a46f4
STATUS:CONFIRMED
LAST-MODIFIED:20190802T145158Z
DESCRIPTION:Kreisliga - Rendsburg/ Eckernförde\nBegegnungs-Nr: 27\nHeim: Brügger SV II\nGast: SV Fockbek IV\n
LOCATION:
CATEGORIES:Saison 2018/19
END:VEVENT
BEGIN:VEVENT
DTSTAMP:20260420T013606Z
DTSTART;TZID=Europe/Berlin:20190107T201500
DTEND;TZID=Europe/Berlin:20190107T231500
SUMMARY:Kreisliga Brügger SV II vs Brügger SV III (34)
UID:8f2462ac-f3f9-6d7a-e053-1fc7a80a46f4
STATUS:CONFIRMED
LAST-MODIFIED:20190802T145158Z
DESCRIPTION:Kreisliga - Rendsburg/ Eckernförde\nBegegnungs-Nr: 34\nHeim: Brügger SV II\nGast: Brügger SV III\n
LOCATION:
CATEGORIES:Saison 2018/19
END:VEVENT
BEGIN:VEVENT
DTSTAMP:20260420T013606Z
DTSTART;TZID=Europe/Berlin:20190401T201500
DTEND;TZID=Europe/Berlin:20190401T231500
SUMMARY:Kreisliga Brügger SV II vs Rendsburger TSV IV (49)
UID:8f2462ac-f523-6d7a-e053-1fc7a80a46f4
STATUS:CONFIRMED
LAST-MODIFIED:20190802T145158Z
DESCRIPTION:Kreisliga - Rendsburg/ Eckernförde\nBegegnungs-Nr: 49\nHeim: Brügger SV II\nGast: Rendsburger TSV IV\n
LOCATION:
CATEGORIES:Saison 2018/19
END:VEVENT
BEGIN:VEVENT
DTSTAMP:20260420T013606Z
DTSTART;TZID=Europe/Berlin:20190426T201500
DTEND;TZID=Europe/Berlin:20190426T231500
SUMMARY:Kreisliga Brügger SV II vs TSV Vineta Audorf  (65)
UID:8f2462ac-f669-6d7a-e053-1fc7a80a46f4
STATUS:CONFIRMED
LAST-MODIFIED:20190802T145159Z
DESCRIPTION:Kreisliga - Rendsburg/ Eckernförde\nBegegnungs-Nr: 65\nHeim: Brügger SV II\nGast: TSV Vineta Audorf \n
LOCATION:
CATEGORIES:Saison 2018/19
END:VEVENT
BEGIN:VEVENT
DTSTAMP:20260420T013606Z
DTSTART;TZID=Europe/Berlin:20190109T201500
DTEND;TZID=Europe/Berlin:20190109T231500
SUMMARY:Kreisliga Brügger SV II vs Osterbyer SV  (9)
UID:8f2462ac-f6b8-6d7a-e053-1fc7a80a46f4
STATUS:CONFIRMED
LAST-MODIFIED:20190802T145159Z
DESCRIPTION:Kreisliga - Rendsburg/ Eckernförde\nBegegnungs-Nr: 9\nHeim: Brügger SV II\nGast: Osterbyer SV \n
LOCATION:
CATEGORIES:Saison 2018/19
END:VEVENT
BEGIN:VEVENT
DTSTAMP:20260420T013606Z
DTSTART;TZID=Europe/Berlin:20180917T200000
DTEND;TZID=Europe/Berlin:20180917T230000
SUMMARY:Kreisliga TSV Owschlag  vs Brügger SV II (19)
UID:8f2462ac-ed7f-6d7a-e053-1fc7a80a46f4
STATUS:CONFIRMED
LAST-MODIFIED:20190802T145157Z
DESCRIPTION:Kreisliga - Rendsburg/ Eckernförde\nBegegnungs-Nr: 19\nHeim: TSV Owschlag \nGast: Brügger SV II\n
LOCATION:
CATEGORIES:Saison 2018/19
END:VEVENT
BEGIN:VEVENT
DTSTAMP:20260420T013606Z
DTSTART;TZID=Europe/Berlin:20180820T201500
DTEND;TZID=Europe/Berlin:20180820T231500
SUMMARY:Kreisliga Brügger SV III vs Brügger SV II (34)
UID:8f2462ac-eecb-6d7a-e053-1fc7a80a46f4
STATUS:CONFIRMED
LAST-MODIFIED:20190802T145157Z
DESCRIPTION:Kreisliga - Rendsburg/ Eckernförde\nBegegnungs-Nr: 34\nHeim: Brügger SV III\nGast: Brügger SV II\n
LOCATION:
CATEGORIES:Saison 2018/19
END:VEVENT
BEGIN:VEVENT
DTSTAMP:20260420T013606Z
DTSTART;TZID=Europe/Berlin:20181114T200000
DTEND;TZID=Europe/Berlin:20181114T230000
SUMMARY:Kreisliga Rendsburger TSV IV vs Brügger SV II (49)
UID:8f2462ac-f002-6d7a-e053-1fc7a80a46f4
STATUS:CONFIRMED
LAST-MODIFIED:20190802T145157Z
DESCRIPTION:Kreisliga - Rendsburg/ Eckernförde\nBegegnungs-Nr: 49\nHeim: Rendsburger TSV IV\nGast: Brügger SV II\n
LOCATION:
CATEGORIES:Saison 2018/19
END:VEVENT
BEGIN:VEVENT
DTSTAMP:20260420T013606Z
DTSTART;TZID=Europe/Berlin:20181130T200000
DTEND;TZID=Europe/Berlin:20181130T230000
SUMMARY:Kreisliga TSV Vineta Audorf  vs Brügger SV II (65)
UID:8f2462ac-f169-6d7a-e053-1fc7a80a46f4
STATUS:CONFIRMED
LAST-MODIFIED:20190802T145158Z
DESCRIPTION:Kreisliga - Rendsburg/ Eckernförde\nBegegnungs-Nr: 65\nHeim: TSV Vineta Audorf \nGast: Brügger SV II\n
LOCATION:
CATEGORIES:Saison 2018/19
END:VEVENT
BEGIN:VEVENT
DTSTAMP:20260420T013606Z
DTSTART;TZID=Europe/Berlin:20180907T200000
DTEND;TZID=Europe/Berlin:20180907T230000
SUMMARY:Kreisliga Osterbyer SV  vs Brügger SV II (9)
UID:8f2462ac-f1b8-6d7a-e053-1fc7a80a46f4
STATUS:CONFIRMED
LAST-MODIFIED:20190802T145158Z
DESCRIPTION:Kreisliga - Rendsburg/ Eckernförde\nBegegnungs-Nr: 9\nHeim: Osterbyer SV \nGast: Brügger SV II\n
LOCATION:
CATEGORIES:Saison 2018/19
END:VEVENT
BEGIN:VEVENT
DTSTAMP:20260420T013606Z
DTSTART;TZID=Europe/Berlin:20190304T200000
DTEND;TZID=Europe/Berlin:20190304T230000
SUMMARY:Kreisliga Eckernförder MTV II vs Brügger SV II (15)
UID:8f2462ac-f24d-6d7a-e053-1fc7a80a46f4
STATUS:CONFIRMED
LAST-MODIFIED:20190802T145158Z
DESCRIPTION:Kreisliga - Rendsburg/ Eckernförde\nBegegnungs-Nr: 15\nHeim: Eckernförder MTV II\nGast: Brügger SV II\n
LOCATION:
CATEGORIES:Saison 2018/19
END:VEVENT
BEGIN:VEVENT
DTSTAMP:20260420T013606Z
DTSTART;TZID=Europe/Berlin:20190118T200000
DTEND;TZID=Europe/Berlin:20190118T230000
SUMMARY:Kreisliga Hohner SV Eintracht  vs Brügger SV II (3)
UID:8f2462ac-f393-6d7a-e053-1fc7a80a46f4
STATUS:CONFIRMED
LAST-MODIFIED:20190802T145158Z
DESCRIPTION:Kreisliga - Rendsburg/ Eckernförde\nBegegnungs-Nr: 3\nHeim: Hohner SV Eintracht \nGast: Brügger SV II\n
LOCATION:
CATEGORIES:Saison 2018/19
END:VEVENT
BEGIN:VEVENT
DTSTAMP:20260420T013606Z
DTSTART;TZID=Europe/Berlin:20190306T200000
DTEND;TZID=Europe/Berlin:20190306T230000
SUMMARY:Kreisliga Westerrönfelder SV  vs Brügger SV II (39)
UID:8f2462ac-f456-6d7a-e053-1fc7a80a46f4
STATUS:CONFIRMED
LAST-MODIFIED:20190802T145158Z
DESCRIPTION:Kreisliga - Rendsburg/ Eckernförde\nBegegnungs-Nr: 39\nHeim: Westerrönfelder SV \nGast: Brügger SV II\n
LOCATION:
CATEGORIES:Saison 2018/19
END:VEVENT
BEGIN:VEVENT
DTSTAMP:20260420T013606Z
DTSTART;TZID=Europe/Berlin:20190308T200000
DTEND;TZID=Europe/Berlin:20190308T230000
SUMMARY:Kreisliga Eckernförder MTV III vs Brügger SV II (45)
UID:8f2462ac-f4cf-6d7a-e053-1fc7a80a46f4
STATUS:CONFIRMED
LAST-MODIFIED:20190802T145158Z
DESCRIPTION:Kreisliga - Rendsburg/ Eckernförde\nBegegnungs-Nr: 45\nHeim: Eckernförder MTV III\nGast: Brügger SV II\n
LOCATION:
CATEGORIES:Saison 2018/19
END:VEVENT
BEGIN:VEVENT
DTSTAMP:20260420T013606Z
DTSTART;TZID=Europe/Berlin:20190322T200000
DTEND;TZID=Europe/Berlin:20190322T230000
SUMMARY:Kreisliga Osdorfer SV  vs Brügger SV II (57)
UID:8f2462ac-f5d9-6d7a-e053-1fc7a80a46f4
STATUS:CONFIRMED
LAST-MODIFIED:20190802T145159Z
DESCRIPTION:Kreisliga - Rendsburg/ Eckernförde\nBegegnungs-Nr: 57\nHeim: Osdorfer SV \nGast: Brügger SV II\n
LOCATION:
CATEGORIES:Saison 2018/19
END:VEVENT
END:VCALENDAR
